BEGIN:VCALENDAR
VERSION:2.0
PRODID:-//MTV Hesedorf - ECPv6.15.15//NONSGML v1.0//EN
CALSCALE:GREGORIAN
METHOD:PUBLISH
X-ORIGINAL-URL:https://www.mtv-hesedorf.de
X-WR-CALDESC:Veranstaltungen für MTV Hesedorf
REFRESH-INTERVAL;VALUE=DURATION:PT1H
X-Robots-Tag:noindex
X-PUBLISHED-TTL:PT1H
BEGIN:VTIMEZONE
TZID:UTC
BEGIN:STANDARD
TZOFFSETFROM:+0000
TZOFFSETTO:+0000
TZNAME:UTC
DTSTART:20220101T000000
END:STANDARD
END:VTIMEZONE
BEGIN:VEVENT
DTSTART;VALUE=DATE:20230825
DTEND;VALUE=DATE:20230827
DTSTAMP:20260422T151848
CREATED:20230109T194506Z
LAST-MODIFIED:20230109T194506Z
UID:2724-1692921600-1693094399@www.mtv-hesedorf.de
SUMMARY:Sprakelfest
DESCRIPTION:
URL:https://www.mtv-hesedorf.de/veranstaltung/sprakelfest-2/
LOCATION:Sprakel-Park\, Am Sprakel 1\, Bremervörde\, Niedersachsen\, 27432\, Deutschland
END:VEVENT
END:VCALENDAR