BEGIN:VCALENDAR
VERSION:2.0
PRODID:-//MTV Hesedorf - ECPv6.15.15//NONSGML v1.0//EN
CALSCALE:GREGORIAN
METHOD:PUBLISH
X-ORIGINAL-URL:https://www.mtv-hesedorf.de
X-WR-CALDESC:Veranstaltungen für MTV Hesedorf
REFRESH-INTERVAL;VALUE=DURATION:PT1H
X-Robots-Tag:noindex
X-PUBLISHED-TTL:PT1H
BEGIN:VTIMEZONE
TZID:UTC
BEGIN:STANDARD
TZOFFSETFROM:+0000
TZOFFSETTO:+0000
TZNAME:UTC
DTSTART:20240101T000000
END:STANDARD
END:VTIMEZONE
BEGIN:VEVENT
DTSTART;VALUE=DATE:20250822
DTEND;VALUE=DATE:20250824
DTSTAMP:20260422T070535
CREATED:20250616T181315Z
LAST-MODIFIED:20250616T181315Z
UID:3002-1755820800-1755993599@www.mtv-hesedorf.de
SUMMARY:Sprakelfest
DESCRIPTION:
URL:https://www.mtv-hesedorf.de/veranstaltung/sprakelfest-3/
END:VEVENT
END:VCALENDAR