BEGIN:VCALENDAR
VERSION:2.0
PRODID:-//MTV Hesedorf - ECPv6.15.15//NONSGML v1.0//EN
CALSCALE:GREGORIAN
METHOD:PUBLISH
X-WR-CALNAME:MTV Hesedorf
X-ORIGINAL-URL:https://www.mtv-hesedorf.de
X-WR-CALDESC:Veranstaltungen für MTV Hesedorf
REFRESH-INTERVAL;VALUE=DURATION:PT1H
X-Robots-Tag:noindex
X-PUBLISHED-TTL:PT1H
BEGIN:VTIMEZONE
TZID:UTC
BEGIN:STANDARD
TZOFFSETFROM:+0000
TZOFFSETTO:+0000
TZNAME:UTC
DTSTART:20160101T000000
END:STANDARD
END:VTIMEZONE
BEGIN:VEVENT
DTSTART;TZID=UTC:20170225T183000
DTEND;TZID=UTC:20170225T230000
DTSTAMP:20260422T144323
CREATED:20170104T190816Z
LAST-MODIFIED:20180522T203348Z
UID:664-1488047400-1488063600@www.mtv-hesedorf.de
SUMMARY:Sportlerball
DESCRIPTION:
URL:https://www.mtv-hesedorf.de/veranstaltung/sportlerball/
LOCATION:Schützenhalle Hesedorf\, Landwehrdamm 22\, Hesedorf\, 27432\, Deutschland
END:VEVENT
END:VCALENDAR